BEGIN:VCALENDAR
PRODID:-//eluceo/ical//2.0/EN
VERSION:2.0
CALSCALE:GREGORIAN
BEGIN:VEVENT
UID:event-261
DTSTAMP:20260423T101801Z
SUMMARY:Lezing Vastgoedrecht 
DESCRIPTION:Op 5 februari om 18:00 uur nodigt de Privatico commissie van Ma
 gister JFT | Justitia jullie uit voor een interessante lezing! Een avond w
 aar de advocaat Mr. Jochem van Santvoort zal komen vertellen over het vast
 goedrecht. Wat houdt het vastgoedrecht in? Welke master moet je daarvoor v
 olgen en hoe word je vastgoedrecht advocaat? Mr. Van Santvoort zal jullie 
 dus ook meer vertellen over zijn persoonlijke loopbaan\, zijn werkdag binn
 en de vakgroep Onderneming en Vastgoed en krijgen jullie de kans om hem vr
 agen te stellen.
DTSTART:20240205T170000Z
DTEND:20240205T200000Z
LOCATION:Cubez215
END:VEVENT
BEGIN:VTIMEZONE
TZID:UTC
BEGIN:STANDARD
DTSTART:20240205T170000
TZNAME:UTC
TZOFFSETTO:+0000
TZOFFSETFROM:+0000
END:STANDARD
END:VTIMEZONE
END:VCALENDAR
