BEGIN:VCALENDAR
PRODID:-//eluceo/ical//2.0/EN
VERSION:2.0
CALSCALE:GREGORIAN
BEGIN:VEVENT
UID:event-306
DTSTAMP:20260423T081025Z
SUMMARY:Neurotechnologie in het Strafrecht
DESCRIPTION:Lezing: Neurotechnologie in het strafrecht🧠⚖ Op donderdag 
 2 mei vanaf 19:00 organiseert de (Pre)masterCie de lezing Neurotechnologie
  in het strafrecht. Deze lezing zal plaatsvinden in CubeZ 15. Tijdens deze
  lezing zal mr. N.A.W. van de Pol ons vertellen over het gebruik van Neuro
 technologie binnen het strafrecht. Tevens zal ze bespreken welke juridisch
 e implicaties het toepassen van Neurotechnologie binnen het strafrecht met
  zich meebrengt. Denk daarbij bijvoorbeeld aan het folterverbod\, het rech
 t op privacy\, mentale integriteit\, autonomie en vrijheid van gedachte. 
 🗣✨ De lezing wordt afgesloten met een (gratis)drankje bij Esplanade.
 🍻🎉 Dit is de perfecte kans om je mede (pre-)masterstudenten te ontmo
 eten. Kortom\, dat wil je niet missen!!😊 Als je hier nou ook zo graag b
 ij wil zijn\, schrijf je dan snel in!
DTSTART:20240502T170000Z
DTEND:20240502T190000Z
LOCATION:Cube 15
END:VEVENT
BEGIN:VTIMEZONE
TZID:UTC
BEGIN:STANDARD
DTSTART:20240502T170000
TZNAME:UTC
TZOFFSETTO:+0000
TZOFFSETFROM:+0000
END:STANDARD
END:VTIMEZONE
END:VCALENDAR
