BEGIN:VCALENDAR
PRODID:-//eluceo/ical//2.0/EN
VERSION:2.0
CALSCALE:GREGORIAN
BEGIN:VEVENT
UID:event-361
DTSTAMP:20260423T003102Z
SUMMARY:Info Session: Working in the EU
DESCRIPTION:We are collaborating with TiMUN to to bring you two guests from
  Europol who will give a presentation on how to get a job within the EU\, 
 and answer some audience questions! 󰎾⚖️ Come join us on the 15th of
  November from 18:00-20:00 at Cube 216! Sign up now via the link in our bi
 o! We look forward to seeing you there! If you have any questions regardin
 g this event\, you can send us a DM or e-mail to careergl@magisterjtf.nl!
DTSTART:20241115T170000Z
DTEND:20241115T190000Z
LOCATION:CUBEz 216
END:VEVENT
BEGIN:VTIMEZONE
TZID:UTC
BEGIN:STANDARD
DTSTART:20241115T170000
TZNAME:UTC
TZOFFSETTO:+0000
TZOFFSETFROM:+0000
END:STANDARD
END:VTIMEZONE
END:VCALENDAR
